BEGIN:VCALENDAR
VERSION:2.0
PRODID:-//ABENO
CALSCALE:GREGORIAN
METHOD:PUBLISH
X-WR-CALNAME:ABENO
X-ORIGINAL-URL:https://abeno.org.br/eventos/60a-reuniao-da-abeno-2/
X-WR-CALDESC:61ª Reunião da ABENO
BEGIN:VEVENT
DTSTART:20260630T000000
DTEND:20260703T000000
SUMMARY:61ª Reunião da ABENO
DESCRIPTION:A 61ª ABENO será realizada na Universidade Federal do Ceará (UFC) – Campus Pici – Fortaleza/CE. Participe! Divulgue!
LOCATION:Universidade Federal do Amazonas - UFAM e na Universidade do Estado do Amazonas - UEA
END:VEVENT
END:VCALENDAR
