BEGIN:VCALENDAR
VERSION:2.0
PRODID:-//ABENO
CALSCALE:GREGORIAN
METHOD:PUBLISH
X-WR-CALNAME:ABENO
X-ORIGINAL-URL:https://abeno.org.br/eventos/avaliacao-tridimensional-no-contexto-da-avaliacao-educacional-em-odontologia-2/
X-WR-CALDESC:Avaliação tridimensional no contexto da avaliação educacional em odontologia Copy
BEGIN:VEVENT
DTSTART:20210421T000000
DTEND:20210421T000000
SUMMARY:Avaliação tridimensional no contexto da avaliação educacional em odontologia Copy
DESCRIPTION:56ª Reunião anual da ABENO
LOCATION:Oficina Remota, das 20h às 22h - Atividade gratuita para sócios
END:VEVENT
END:VCALENDAR
