BEGIN:VCALENDAR
VERSION:2.0
PRODID:-//ABENO
CALSCALE:GREGORIAN
METHOD:PUBLISH
X-WR-CALNAME:ABENO
X-ORIGINAL-URL:https://abeno.org.br/eventos/56-reuniao-anual-da-abeno/
X-WR-CALDESC:56ª Reunião anual da ABENO
BEGIN:VEVENT
DTSTART:20211021T000000
DTEND:20211023T000000
SUMMARY:56ª Reunião anual da ABENO
DESCRIPTION:56ª Reunião anual da ABENO
LOCATION:
END:VEVENT
END:VCALENDAR
